Package: CoverageView Version: 1.38.0 Command: /Library/Frameworks/R.framework/Resources/bin/R CMD check --install=check:CoverageView.install-out.txt --library=/Library/Frameworks/R.framework/Resources/library --no-vignettes --timings CoverageView_1.38.0.tar.gz StartedAt: 2023-10-16 00:19:49 -0400 (Mon, 16 Oct 2023) EndedAt: 2023-10-16 00:28:14 -0400 (Mon, 16 Oct 2023) EllapsedTime: 504.2 seconds RetCode: 0 Status: WARNINGS CheckDir: CoverageView.Rcheck Warnings: 1