Package: Cormotif Version: 1.46.0 Command: /home/biocbuild/bbs-3.17-bioc/R/bin/R CMD INSTALL Cormotif StartedAt: 2023-10-15 15:10:43 -0400 (Sun, 15 Oct 2023) EndedAt: 2023-10-15 15:10:56 -0400 (Sun, 15 Oct 2023) EllapsedTime: 12.1 seconds RetCode: 0 Status: OK