Package: Cormotif Version: 1.46.0 Command: /home/biocbuild/bbs-3.17-bioc/R/bin/R CMD check --install=check:Cormotif.install-out.txt --library=/home/biocbuild/bbs-3.17-bioc/R/site-library --timings Cormotif_1.46.0.tar.gz StartedAt: 2023-10-15 20:22:08 -0400 (Sun, 15 Oct 2023) EndedAt: 2023-10-15 20:23:39 -0400 (Sun, 15 Oct 2023) EllapsedTime: 90.7 seconds RetCode: 0 Status: OK CheckDir: Cormotif.Rcheck Warnings: 0