Package: Cormotif Version: 1.46.0 Command: /Library/Frameworks/R.framework/Resources/bin/R CMD INSTALL Cormotif StartedAt: 2023-10-15 15:09:06 -0400 (Sun, 15 Oct 2023) EndedAt: 2023-10-15 15:09:46 -0400 (Sun, 15 Oct 2023) EllapsedTime: 39.7 seconds RetCode: 0 Status: OK