Package: Cormotif Version: 1.46.0 Command: rm -rf Cormotif.buildbin-libdir && mkdir Cormotif.buildbin-libdir && /Users/biocbuild/BBS/utils/build-universal.sh Cormotif_1.46.0.tar.gz /Library/Frameworks/R.framework/Resources/bin/R Cormotif.buildbin-libdir StartedAt: 2023-10-16 09:12:18 -0400 (Mon, 16 Oct 2023) EndedAt: 2023-10-16 09:12:32 -0400 (Mon, 16 Oct 2023) EllapsedTime: 14.6 seconds RetCode: 0 Status: OK PackageFile: Cormotif_1.46.0.tgz PackageFileSize: 430.1 KiB