Package: CoreGx Version: 2.4.0 Command: /home/biocbuild/bbs-3.17-bioc/R/bin/R CMD INSTALL CoreGx StartedAt: 2023-10-15 15:36:17 -0400 (Sun, 15 Oct 2023) EndedAt: 2023-10-15 15:36:52 -0400 (Sun, 15 Oct 2023) EllapsedTime: 35.3 seconds RetCode: 0 Status: OK