Package: CoreGx Version: 2.4.0 Command: /Library/Frameworks/R.framework/Resources/bin/R CMD INSTALL CoreGx StartedAt: 2023-10-15 16:03:45 -0400 (Sun, 15 Oct 2023) EndedAt: 2023-10-15 16:05:45 -0400 (Sun, 15 Oct 2023) EllapsedTime: 120.0 seconds RetCode: 0 Status: OK