Package: CoreGx Version: 2.4.0 Command: /Library/Frameworks/R.framework/Resources/bin/R CMD check --install=check:CoreGx.install-out.txt --library=/Library/Frameworks/R.framework/Resources/library --no-vignettes --timings CoreGx_2.4.0.tar.gz StartedAt: 2023-10-16 00:14:03 -0400 (Mon, 16 Oct 2023) EndedAt: 2023-10-16 00:34:36 -0400 (Mon, 16 Oct 2023) EllapsedTime: 1233.0 seconds RetCode: 0 Status: OK CheckDir: CoreGx.Rcheck Warnings: 0