Package: CoreGx Version: 2.4.0 Command: /Library/Frameworks/R.framework/Resources/bin/R CMD build --keep-empty-dirs --no-resave-data CoreGx StartedAt: 2023-10-15 17:38:58 -0400 (Sun, 15 Oct 2023) EndedAt: 2023-10-15 17:40:57 -0400 (Sun, 15 Oct 2023) EllapsedTime: 118.9 seconds RetCode: 0 Status: OK PackageFile: CoreGx_2.4.0.tar.gz PackageFileSize: 1.362 MiB