Package: CopywriteR Version: 2.32.0 Command: /home/biocbuild/bbs-3.17-bioc/R/bin/R CMD INSTALL CopywriteR StartedAt: 2023-10-15 15:31:41 -0400 (Sun, 15 Oct 2023) EndedAt: 2023-10-15 15:32:10 -0400 (Sun, 15 Oct 2023) EllapsedTime: 28.7 seconds RetCode: 0 Status: OK