Package: CopywriteR Version: 2.32.0 Command: /home/biocbuild/bbs-3.17-bioc/R/bin/R CMD build --keep-empty-dirs --no-resave-data CopywriteR StartedAt: 2023-10-15 16:25:34 -0400 (Sun, 15 Oct 2023) EndedAt: 2023-10-15 16:27:02 -0400 (Sun, 15 Oct 2023) EllapsedTime: 88.7 seconds RetCode: 1 Status: ERROR PackageFile: None PackageFileSize: NA