Package: CopywriteR Version: 2.31.0 Command: /Library/Frameworks/R.framework/Resources/bin/R CMD check --install=check:CopywriteR.install-out.txt --library=/Library/Frameworks/R.framework/Resources/library --no-vignettes --timings CopywriteR_2.31.0.tar.gz StartedAt: 2022-11-09 01:45:23 -0500 (Wed, 09 Nov 2022) EndedAt: 2022-11-09 01:53:08 -0500 (Wed, 09 Nov 2022) EllapsedTime: 465.1 seconds RetCode: 0 Status: OK CheckDir: CopywriteR.Rcheck Warnings: 0