Package: CopyNumberPlots Version: 1.16.0 Command: /home/biocbuild/bbs-3.17-bioc/R/bin/R CMD check --install=check:CopyNumberPlots.install-out.txt --library=/home/biocbuild/bbs-3.17-bioc/R/site-library --timings CopyNumberPlots_1.16.0.tar.gz StartedAt: 2023-10-15 20:21:42 -0400 (Sun, 15 Oct 2023) EndedAt: 2023-10-15 20:27:33 -0400 (Sun, 15 Oct 2023) EllapsedTime: 350.6 seconds RetCode: 0 Status: OK CheckDir: CopyNumberPlots.Rcheck Warnings: 0