Package: CopyNumberPlots Version: 1.16.0 Command: /home/biocbuild/bbs-3.17-bioc/R/bin/R CMD build --keep-empty-dirs --no-resave-data CopyNumberPlots StartedAt: 2023-10-15 16:25:32 -0400 (Sun, 15 Oct 2023) EndedAt: 2023-10-15 16:27:03 -0400 (Sun, 15 Oct 2023) EllapsedTime: 90.3 seconds RetCode: 0 Status: OK PackageFile: CopyNumberPlots_1.16.0.tar.gz PackageFileSize: 1.718 MiB