Package: CopyNumberPlots Version: 1.16.0 Command: /Library/Frameworks/R.framework/Resources/bin/R CMD check --install=check:CopyNumberPlots.install-out.txt --library=/Library/Frameworks/R.framework/Resources/library --no-vignettes --timings CopyNumberPlots_1.16.0.tar.gz StartedAt: 2023-10-16 00:13:18 -0400 (Mon, 16 Oct 2023) EndedAt: 2023-10-16 00:26:21 -0400 (Mon, 16 Oct 2023) EllapsedTime: 782.7 seconds RetCode: 0 Status: OK CheckDir: CopyNumberPlots.Rcheck Warnings: 0