Package: CopyNumberPlots Version: 1.16.0 Command: /Library/Frameworks/R.framework/Resources/bin/R CMD build --keep-empty-dirs --no-resave-data CopyNumberPlots StartedAt: 2023-10-15 17:37:47 -0400 (Sun, 15 Oct 2023) EndedAt: 2023-10-15 17:41:14 -0400 (Sun, 15 Oct 2023) EllapsedTime: 207.4 seconds RetCode: 0 Status: OK PackageFile: CopyNumberPlots_1.16.0.tar.gz PackageFileSize: 1.737 MiB