Package: ConsensusClusterPlus Version: 1.64.0 Command: rm -rf ConsensusClusterPlus.buildbin-libdir && mkdir ConsensusClusterPlus.buildbin-libdir && /Users/biocbuild/BBS/utils/build-universal.sh ConsensusClusterPlus_1.64.0.tar.gz /Library/Frameworks/R.framework/Resources/bin/R ConsensusClusterPlus.buildbin-libdir StartedAt: 2023-10-16 09:11:52 -0400 (Mon, 16 Oct 2023) EndedAt: 2023-10-16 09:12:03 -0400 (Mon, 16 Oct 2023) EllapsedTime: 10.6 seconds RetCode: 0 Status: OK PackageFile: ConsensusClusterPlus_1.64.0.tgz PackageFileSize: 420.3 KiB