Package: CompoundDb Version: 1.4.0 Command: chmod a+r CompoundDb -R && F:\biocbuild\bbs-3.17-bioc\R\bin\R.exe CMD build --keep-empty-dirs --no-resave-data CompoundDb StartedAt: 2023-10-15 18:19:54 -0400 (Sun, 15 Oct 2023) EndedAt: 2023-10-15 18:20:42 -0400 (Sun, 15 Oct 2023) EllapsedTime: 48.0 seconds RetCode: 0 Status: OK PackageFile: CompoundDb_1.4.0.tar.gz PackageFileSize: 1.296 MiB