Package: CompoundDb Version: 1.4.0 Command: /home/biocbuild/bbs-3.17-bioc/R/bin/R CMD check --install=check:CompoundDb.install-out.txt --library=/home/biocbuild/bbs-3.17-bioc/R/site-library --timings CompoundDb_1.4.0.tar.gz StartedAt: 2023-10-15 20:18:45 -0400 (Sun, 15 Oct 2023) EndedAt: 2023-10-15 20:21:25 -0400 (Sun, 15 Oct 2023) EllapsedTime: 160.3 seconds RetCode: 0 Status: OK CheckDir: CompoundDb.Rcheck Warnings: 0