Package: CompoundDb Version: 1.4.0 Command: /Library/Frameworks/R.framework/Resources/bin/R CMD INSTALL CompoundDb StartedAt: 2023-10-15 16:17:16 -0400 (Sun, 15 Oct 2023) EndedAt: 2023-10-15 16:18:24 -0400 (Sun, 15 Oct 2023) EllapsedTime: 67.4 seconds RetCode: 0 Status: OK