Package: ComplexHeatmap Version: 2.16.0 Command: F:\biocbuild\bbs-3.17-bioc\R\bin\R.exe CMD INSTALL ComplexHeatmap StartedAt: 2023-10-15 16:16:53 -0400 (Sun, 15 Oct 2023) EndedAt: 2023-10-15 16:17:47 -0400 (Sun, 15 Oct 2023) EllapsedTime: 53.6 seconds RetCode: 0 Status: OK