Package: ComplexHeatmap Version: 2.16.0 Command: chmod a+r ComplexHeatmap -R && F:\biocbuild\bbs-3.17-bioc\R\bin\R.exe CMD build --keep-empty-dirs --no-resave-data ComplexHeatmap StartedAt: 2023-10-15 18:19:39 -0400 (Sun, 15 Oct 2023) EndedAt: 2023-10-15 18:20:51 -0400 (Sun, 15 Oct 2023) EllapsedTime: 71.8 seconds RetCode: 0 Status: OK PackageFile: ComplexHeatmap_2.16.0.tar.gz PackageFileSize: 1.374 MiB