Package: ComPrAn Version: 1.8.0 Command: /home/biocbuild/bbs-3.17-bioc/R/bin/R CMD check --install=check:ComPrAn.install-out.txt --library=/home/biocbuild/bbs-3.17-bioc/R/site-library --timings ComPrAn_1.8.0.tar.gz StartedAt: 2023-10-15 20:18:54 -0400 (Sun, 15 Oct 2023) EndedAt: 2023-10-15 20:20:03 -0400 (Sun, 15 Oct 2023) EllapsedTime: 68.7 seconds RetCode: 0 Status: OK CheckDir: ComPrAn.Rcheck Warnings: 0