Package: ComPrAn Version: 1.8.0 Command: /home/biocbuild/bbs-3.17-bioc/R/bin/R CMD build --keep-empty-dirs --no-resave-data ComPrAn StartedAt: 2023-10-15 16:24:16 -0400 (Sun, 15 Oct 2023) EndedAt: 2023-10-15 16:24:37 -0400 (Sun, 15 Oct 2023) EllapsedTime: 20.6 seconds RetCode: 0 Status: OK PackageFile: ComPrAn_1.8.0.tar.gz PackageFileSize: 3.215 MiB