Package: ComPrAn Version: 1.8.0 Command: /Library/Frameworks/R.framework/Resources/bin/R CMD check --install=check:ComPrAn.install-out.txt --library=/Library/Frameworks/R.framework/Resources/library --no-vignettes --timings ComPrAn_1.8.0.tar.gz StartedAt: 2023-10-16 00:08:18 -0400 (Mon, 16 Oct 2023) EndedAt: 2023-10-16 00:10:51 -0400 (Mon, 16 Oct 2023) EllapsedTime: 153.2 seconds RetCode: 0 Status: OK CheckDir: ComPrAn.Rcheck Warnings: 0