Package: ComPrAn Version: 1.8.0 Command: /Library/Frameworks/R.framework/Resources/bin/R CMD build --keep-empty-dirs --no-resave-data ComPrAn StartedAt: 2023-10-15 17:35:50 -0400 (Sun, 15 Oct 2023) EndedAt: 2023-10-15 17:36:46 -0400 (Sun, 15 Oct 2023) EllapsedTime: 56.8 seconds RetCode: 0 Status: OK PackageFile: ComPrAn_1.8.0.tar.gz PackageFileSize: 3.243 MiB