Package: CoRegNet Version: 1.38.0 Command: /Library/Frameworks/R.framework/Resources/bin/R CMD build --keep-empty-dirs --no-resave-data CoRegNet StartedAt: 2023-10-15 17:38:43 -0400 (Sun, 15 Oct 2023) EndedAt: 2023-10-15 17:39:19 -0400 (Sun, 15 Oct 2023) EllapsedTime: 35.9 seconds RetCode: 0 Status: OK PackageFile: CoRegNet_1.38.0.tar.gz PackageFileSize: 4.877 MiB