Package: CoRegNet Version: 1.38.0 Command: rm -rf CoRegNet.buildbin-libdir && mkdir CoRegNet.buildbin-libdir && /Users/biocbuild/BBS/utils/build-universal.sh CoRegNet_1.38.0.tar.gz /Library/Frameworks/R.framework/Resources/bin/R CoRegNet.buildbin-libdir StartedAt: 2023-10-16 09:12:13 -0400 (Mon, 16 Oct 2023) EndedAt: 2023-10-16 09:12:57 -0400 (Mon, 16 Oct 2023) EllapsedTime: 44.3 seconds RetCode: 0 Status: OK PackageFile: CoRegNet_1.38.0.tgz PackageFileSize: 3.763 MiB