Package: CoGAPS Version: 3.20.0 Command: /home/biocbuild/bbs-3.17-bioc/R/bin/R CMD INSTALL CoGAPS StartedAt: 2023-10-15 15:37:07 -0400 (Sun, 15 Oct 2023) EndedAt: 2023-10-15 15:39:38 -0400 (Sun, 15 Oct 2023) EllapsedTime: 150.4 seconds RetCode: 0 Status: OK