Package: CoCiteStats Version: 1.72.0 Command: F:\biocbuild\bbs-3.17-bioc\R\bin\R.exe CMD INSTALL CoCiteStats StartedAt: 2023-10-15 16:04:54 -0400 (Sun, 15 Oct 2023) EndedAt: 2023-10-15 16:05:13 -0400 (Sun, 15 Oct 2023) EllapsedTime: 19.0 seconds RetCode: 0 Status: OK