Package: CoCiteStats Version: 1.72.0 Command: chmod a+r CoCiteStats -R && F:\biocbuild\bbs-3.17-bioc\R\bin\R.exe CMD build --keep-empty-dirs --no-resave-data CoCiteStats StartedAt: 2023-10-15 18:15:19 -0400 (Sun, 15 Oct 2023) EndedAt: 2023-10-15 18:15:20 -0400 (Sun, 15 Oct 2023) EllapsedTime: 1.9 seconds RetCode: 0 Status: OK PackageFile: CoCiteStats_1.72.0.tar.gz PackageFileSize: 5.33 KiB