Package: CoCiteStats Version: 1.72.0 Command: rm -rf CoCiteStats.buildbin-libdir && mkdir CoCiteStats.buildbin-libdir && F:\biocbuild\bbs-3.17-bioc\R\bin\R.exe CMD INSTALL --build --library=CoCiteStats.buildbin-libdir CoCiteStats_1.72.0.tar.gz StartedAt: 2023-10-16 08:36:45 -0400 (Mon, 16 Oct 2023) EndedAt: 2023-10-16 08:37:02 -0400 (Mon, 16 Oct 2023) EllapsedTime: 17.1 seconds RetCode: 0 Status: OK PackageFile: CoCiteStats_1.72.0.zip PackageFileSize: 34.47 KiB