Package: CoCiteStats Version: 1.72.0 Command: /home/biocbuild/bbs-3.17-bioc/R/bin/R CMD INSTALL CoCiteStats StartedAt: 2023-10-15 15:16:39 -0400 (Sun, 15 Oct 2023) EndedAt: 2023-10-15 15:16:53 -0400 (Sun, 15 Oct 2023) EllapsedTime: 13.4 seconds RetCode: 0 Status: OK