Package: CoCiteStats Version: 1.72.0 Command: /Library/Frameworks/R.framework/Resources/bin/R CMD check --install=check:CoCiteStats.install-out.txt --library=/Library/Frameworks/R.framework/Resources/library --no-vignettes --timings CoCiteStats_1.72.0.tar.gz StartedAt: 2023-10-16 00:01:59 -0400 (Mon, 16 Oct 2023) EndedAt: 2023-10-16 00:12:08 -0400 (Mon, 16 Oct 2023) EllapsedTime: 609.2 seconds RetCode: 0 Status: OK CheckDir: CoCiteStats.Rcheck Warnings: 0