Package: CoCiteStats Version: 1.72.0 Command: /Library/Frameworks/R.framework/Resources/bin/R CMD build --keep-empty-dirs --no-resave-data CoCiteStats StartedAt: 2023-10-15 17:32:20 -0400 (Sun, 15 Oct 2023) EndedAt: 2023-10-15 17:32:21 -0400 (Sun, 15 Oct 2023) EllapsedTime: 1.2 seconds RetCode: 0 Status: OK PackageFile: CoCiteStats_1.72.0.tar.gz PackageFileSize: 5.334 KiB