git_url: https://git.bioconductor.org/packages/CoCiteStats git_branch: RELEASE_3_17 git_last_commit: 67ad5ba git_last_commit_date: 2023-04-25 09:41:23 -0400 (Tue, 25 Apr 2023) Package: CoCiteStats Version: 1.72.0 Maintainer: Bioconductor Package Maintainer MaintainerEmail: maintainer at bioconductor.org