Package: ClusterSignificance Version: 1.28.0 Command: F:\biocbuild\bbs-3.17-bioc\R\bin\R.exe CMD INSTALL ClusterSignificance StartedAt: 2023-10-15 15:51:59 -0400 (Sun, 15 Oct 2023) EndedAt: 2023-10-15 15:52:21 -0400 (Sun, 15 Oct 2023) EllapsedTime: 22.0 seconds RetCode: 0 Status: OK