Package: ClusterSignificance Version: 1.28.0 Command: F:\biocbuild\bbs-3.17-bioc\R\bin\R.exe CMD check --no-multiarch --install=check:ClusterSignificance.install-out.txt --library=F:\biocbuild\bbs-3.17-bioc\R\library --no-vignettes --timings ClusterSignificance_1.28.0.tar.gz StartedAt: 2023-10-16 00:42:35 -0400 (Mon, 16 Oct 2023) EndedAt: 2023-10-16 00:43:11 -0400 (Mon, 16 Oct 2023) EllapsedTime: 35.8 seconds RetCode: 0 Status: OK CheckDir: ClusterSignificance.Rcheck Warnings: 0