Package: ClusterSignificance Version: 1.28.0 Command: chmod a+r ClusterSignificance -R && F:\biocbuild\bbs-3.17-bioc\R\bin\R.exe CMD build --keep-empty-dirs --no-resave-data ClusterSignificance StartedAt: 2023-10-15 18:12:13 -0400 (Sun, 15 Oct 2023) EndedAt: 2023-10-15 18:13:15 -0400 (Sun, 15 Oct 2023) EllapsedTime: 62.0 seconds RetCode: 0 Status: OK PackageFile: ClusterSignificance_1.28.0.tar.gz PackageFileSize: 1.325 MiB