Package: ClusterSignificance Version: 1.28.0 Command: /home/biocbuild/bbs-3.17-bioc/R/bin/R CMD check --install=check:ClusterSignificance.install-out.txt --library=/home/biocbuild/bbs-3.17-bioc/R/site-library --timings ClusterSignificance_1.28.0.tar.gz StartedAt: 2023-10-15 20:11:11 -0400 (Sun, 15 Oct 2023) EndedAt: 2023-10-15 20:12:35 -0400 (Sun, 15 Oct 2023) EllapsedTime: 84.6 seconds RetCode: 0 Status: OK CheckDir: ClusterSignificance.Rcheck Warnings: 0