Package: ClusterJudge Version: 1.22.0 Command: rm -rf ClusterJudge.buildbin-libdir && mkdir ClusterJudge.buildbin-libdir && F:\biocbuild\bbs-3.17-bioc\R\bin\R.exe CMD INSTALL --build --library=ClusterJudge.buildbin-libdir ClusterJudge_1.22.0.tar.gz StartedAt: 2023-10-16 08:35:55 -0400 (Mon, 16 Oct 2023) EndedAt: 2023-10-16 08:36:02 -0400 (Mon, 16 Oct 2023) EllapsedTime: 7.0 seconds RetCode: 0 Status: OK PackageFile: ClusterJudge_1.22.0.zip PackageFileSize: 4.202 MiB