Package: ClusterJudge Version: 1.22.0 Command: /home/biocbuild/bbs-3.17-bioc/R/bin/R CMD check --install=check:ClusterJudge.install-out.txt --library=/home/biocbuild/bbs-3.17-bioc/R/site-library --timings ClusterJudge_1.22.0.tar.gz StartedAt: 2023-10-15 20:10:35 -0400 (Sun, 15 Oct 2023) EndedAt: 2023-10-15 20:13:53 -0400 (Sun, 15 Oct 2023) EllapsedTime: 197.4 seconds RetCode: 0 Status: OK CheckDir: ClusterJudge.Rcheck Warnings: 0