Package: ClusterJudge Version: 1.22.0 Command: /Library/Frameworks/R.framework/Resources/bin/R CMD check --install=check:ClusterJudge.install-out.txt --library=/Library/Frameworks/R.framework/Resources/library --no-vignettes --timings ClusterJudge_1.22.0.tar.gz StartedAt: 2023-10-15 23:54:27 -0400 (Sun, 15 Oct 2023) EndedAt: 2023-10-16 00:00:58 -0400 (Mon, 16 Oct 2023) EllapsedTime: 391.1 seconds RetCode: 0 Status: OK CheckDir: ClusterJudge.Rcheck Warnings: 0