Package: CluMSID Version: 1.16.0 Command: chmod a+r CluMSID -R && F:\biocbuild\bbs-3.17-bioc\R\bin\R.exe CMD build --keep-empty-dirs --no-resave-data CluMSID StartedAt: 2023-10-15 18:11:43 -0400 (Sun, 15 Oct 2023) EndedAt: 2023-10-15 18:19:19 -0400 (Sun, 15 Oct 2023) EllapsedTime: 455.2 seconds RetCode: 0 Status: OK PackageFile: CluMSID_1.16.0.tar.gz PackageFileSize: 2.876 MiB