Package: CluMSID Version: 1.16.0 Command: /home/biocbuild/bbs-3.17-bioc/R/bin/R CMD INSTALL CluMSID StartedAt: 2023-10-15 15:29:06 -0400 (Sun, 15 Oct 2023) EndedAt: 2023-10-15 15:29:25 -0400 (Sun, 15 Oct 2023) EllapsedTime: 18.5 seconds RetCode: 0 Status: OK