Package: CluMSID Version: 1.16.0 Command: /Library/Frameworks/R.framework/Resources/bin/R CMD INSTALL CluMSID StartedAt: 2023-10-15 15:48:25 -0400 (Sun, 15 Oct 2023) EndedAt: 2023-10-15 15:49:31 -0400 (Sun, 15 Oct 2023) EllapsedTime: 65.7 seconds RetCode: 0 Status: OK