Package: CluMSID Version: 1.16.0 Command: /Library/Frameworks/R.framework/Resources/bin/R CMD check --install=check:CluMSID.install-out.txt --library=/Library/Frameworks/R.framework/Resources/library --no-vignettes --timings CluMSID_1.16.0.tar.gz StartedAt: 2023-10-15 23:53:54 -0400 (Sun, 15 Oct 2023) EndedAt: 2023-10-16 00:03:45 -0400 (Mon, 16 Oct 2023) EllapsedTime: 590.9 seconds RetCode: 0 Status: WARNINGS CheckDir: CluMSID.Rcheck Warnings: 1