Package: CluMSID Version: 1.16.0 Command: rm -rf CluMSID.buildbin-libdir && mkdir CluMSID.buildbin-libdir && /Users/biocbuild/BBS/utils/build-universal.sh CluMSID_1.16.0.tar.gz /Library/Frameworks/R.framework/Resources/bin/R CluMSID.buildbin-libdir StartedAt: 2023-10-16 09:09:53 -0400 (Mon, 16 Oct 2023) EndedAt: 2023-10-16 09:11:09 -0400 (Mon, 16 Oct 2023) EllapsedTime: 76.4 seconds RetCode: 0 Status: OK PackageFile: CluMSID_1.16.0.tgz PackageFileSize: 4.591 MiB