Package: Clonality Version: 1.48.0 Command: /home/biocbuild/bbs-3.17-bioc/R/bin/R CMD build --keep-empty-dirs --no-resave-data Clonality StartedAt: 2023-10-15 16:20:27 -0400 (Sun, 15 Oct 2023) EndedAt: 2023-10-15 16:21:31 -0400 (Sun, 15 Oct 2023) EllapsedTime: 63.4 seconds RetCode: 0 Status: OK PackageFile: Clonality_1.48.0.tar.gz PackageFileSize: 2.37 MiB