Package: Clomial Version: 1.36.0 Command: /home/biocbuild/bbs-3.17-bioc/R/bin/R CMD INSTALL Clomial StartedAt: 2023-10-15 15:09:15 -0400 (Sun, 15 Oct 2023) EndedAt: 2023-10-15 15:09:37 -0400 (Sun, 15 Oct 2023) EllapsedTime: 21.8 seconds RetCode: 0 Status: OK